BEGIN:VCALENDAR
VERSION:2.0
PRODID:-//VEMAFI egyesület - ECPv4.9.10//NONSGML v1.0//EN
CALSCALE:GREGORIAN
METHOD:PUBLISH
X-WR-CALNAME:VEMAFI egyesület
X-ORIGINAL-URL:http://www.vemafi.hu/vemafi
X-WR-CALDESC:Events for VEMAFI egyesület
BEGIN:VTIMEZONE
TZID:UTC
BEGIN:STANDARD
TZOFFSETFROM:+0000
TZOFFSETTO:+0000
TZNAME:UTC
DTSTART:20190101T000000
END:STANDARD
END:VTIMEZONE
BEGIN:VEVENT
DTSTART;VALUE=DATE:20190928
DTEND;VALUE=DATE:20190929
DTSTAMP:20260422T053540
CREATED:20190218T150752Z
LAST-MODIFIED:20190909T082614Z
UID:1761-1569628800-1569715199@www.vemafi.hu
SUMMARY:Egyesületi kirándulás
DESCRIPTION:
URL:http://www.vemafi.hu/vemafi/event/egyesuleti-kirandulas/
LOCATION:Tihany
CATEGORIES:VEMAFI
ATTACH;FMTTYPE=image/jpeg:http://www.vemafi.hu/vemafi/wp-content/uploads/sites/2/2019/09/vemafi-tihany_web.jpg
END:VEVENT
END:VCALENDAR